BEGIN:VCALENDAR
VERSION:2.0
PRODID:-//Riverview Baptist Church - ECPv6.0.10//NONSGML v1.0//EN
CALSCALE:GREGORIAN
METHOD:PUBLISH
X-ORIGINAL-URL:https://riverviewbaptist.org
X-WR-CALDESC:Events for Riverview Baptist Church
REFRESH-INTERVAL;VALUE=DURATION:PT1H
X-Robots-Tag:noindex
X-PUBLISHED-TTL:PT1H
BEGIN:VTIMEZONE
TZID:UTC
BEGIN:STANDARD
TZOFFSETFROM:+0000
TZOFFSETTO:+0000
TZNAME:UTC
DTSTART:20230101T000000
END:STANDARD
END:VTIMEZONE
BEGIN:VEVENT
DTSTART;TZID=UTC:20231027T180000
DTEND;TZID=UTC:20231027T200000
DTSTAMP:20260422T150325
CREATED:20180807T013043Z
LAST-MODIFIED:20231006T165727Z
UID:981-1698429600-1698436800@riverviewbaptist.org
SUMMARY:Harvest Activity
DESCRIPTION:Need a safe place to bring your kids for Halloween? We have the best activity for candy\, games and prizes in the Tri-Cities! The gymnasium will be packed full of booths\, candy\, drinks and even pumpkins as we look to give a good time to the children. \nThis family friendly event is for ALL AGES! \nThe Admission is ABSOLUTELY FREE! If you need a snack\, we will have a concessions stand available!
URL:https://riverviewbaptist.org/event/harvest-activity/
LOCATION:Riverview Baptist Church\, 4921 W Wernett Rd\, Pasco\, WA\, 99301\, United States
ATTACH;FMTTYPE=image/jpeg:https://riverviewbaptist.org/wp-content/uploads/2018/08/harvest-activity-22-072.jpg
ORGANIZER;CN="Pastor%20Kayin%20Rolland":MAILTO:krolland.rvbc@gmail.com
END:VEVENT
END:VCALENDAR