BEGIN:VCALENDAR
VERSION:2.0
PRODID:-//Riverview Baptist Church - ECPv6.0.10//NONSGML v1.0//EN
CALSCALE:GREGORIAN
METHOD:PUBLISH
X-ORIGINAL-URL:https://riverviewbaptist.org
X-WR-CALDESC:Events for Riverview Baptist Church
REFRESH-INTERVAL;VALUE=DURATION:PT1H
X-Robots-Tag:noindex
X-PUBLISHED-TTL:PT1H
BEGIN:VTIMEZONE
TZID:America/Los_Angeles
BEGIN:DAYLIGHT
TZOFFSETFROM:-0800
TZOFFSETTO:-0700
TZNAME:PDT
DTSTART:20250309T100000
END:DAYLIGHT
BEGIN:STANDARD
TZOFFSETFROM:-0700
TZOFFSETTO:-0800
TZNAME:PST
DTSTART:20251102T090000
END:STANDARD
END:VTIMEZONE
BEGIN:VEVENT
DTSTART;TZID=America/Los_Angeles:20250502T063000
DTEND;TZID=America/Los_Angeles:20250502T190000
DTSTAMP:20260421T091305
CREATED:20250415T204236Z
LAST-MODIFIED:20250416T214820Z
UID:1976-1746167400-1746212400@riverviewbaptist.org
SUMMARY:Woodland Park Zoo Honor Roll Trip
DESCRIPTION:
URL:https://riverviewbaptist.org/event/woodland-park-zoo-honor-roll-trip/
ATTACH;FMTTYPE=image/png:https://riverviewbaptist.org/wp-content/uploads/2025/04/Woodland-Park-Zoo-Honor-ROll-Trip-1.png
END:VEVENT
END:VCALENDAR