BEGIN:VCALENDAR
VERSION:2.0
PRODID:-//Riverview Baptist Church - ECPv6.0.10//NONSGML v1.0//EN
CALSCALE:GREGORIAN
METHOD:PUBLISH
X-WR-CALNAME:Riverview Baptist Church
X-ORIGINAL-URL:https://riverviewbaptist.org
X-WR-CALDESC:Events for Riverview Baptist Church
REFRESH-INTERVAL;VALUE=DURATION:PT1H
X-Robots-Tag:noindex
X-PUBLISHED-TTL:PT1H
BEGIN:VTIMEZONE
TZID:UTC
BEGIN:STANDARD
TZOFFSETFROM:+0000
TZOFFSETTO:+0000
TZNAME:UTC
DTSTART:20250101T000000
END:STANDARD
END:VTIMEZONE
BEGIN:VEVENT
DTSTART;VALUE=DATE:20250707
DTEND;VALUE=DATE:20250712
DTSTAMP:20260420T002230
CREATED:20180605T002550Z
LAST-MODIFIED:20250422T184536Z
UID:906-1751846400-1752278399@riverviewbaptist.org
SUMMARY:Junior Camp
DESCRIPTION:Pre Registration for Jr Camp at Passage Northwest!! \nEarly Bird Registration is $215.00 due by May 18th \nRegular Registration is $270.00 due by June 22nd. \nRegister Here
URL:https://riverviewbaptist.org/event/junior-camp/
LOCATION:The Passage Northwest\, 26 Aspen Lane\, Heron\, MT\, 59844\, United States
CATEGORIES:English
ATTACH;FMTTYPE=image/jpeg:https://riverviewbaptist.org/wp-content/uploads/2018/06/109700655_168867441350104_6058280295101874448_n.jpg
END:VEVENT
END:VCALENDAR