BEGIN:VCALENDAR
VERSION:2.0
PRODID:-//Riverview Baptist Church - ECPv6.0.10//NONSGML v1.0//EN
CALSCALE:GREGORIAN
METHOD:PUBLISH
X-WR-CALNAME:Riverview Baptist Church
X-ORIGINAL-URL:https://riverviewbaptist.org
X-WR-CALDESC:Events for Riverview Baptist Church
REFRESH-INTERVAL;VALUE=DURATION:PT1H
X-Robots-Tag:noindex
X-PUBLISHED-TTL:PT1H
BEGIN:VTIMEZONE
TZID:UTC
BEGIN:STANDARD
TZOFFSETFROM:+0000
TZOFFSETTO:+0000
TZNAME:UTC
DTSTART:20180101T000000
END:STANDARD
END:VTIMEZONE
BEGIN:VEVENT
DTSTART;VALUE=DATE:20180219
DTEND;VALUE=DATE:20180222
DTSTAMP:20260420T003654
CREATED:20180113T053751Z
LAST-MODIFIED:20180116T050706Z
UID:553-1518998400-1519257599@riverviewbaptist.org
SUMMARY:President's Day Tournament
DESCRIPTION:President’s Day Tournament\nOn February 19th-21st we will be holding our 40th annual President’s Day Tournament! School’s from around the region will travel to compete in basketball and volleyball competition. Young people and coaches who attend will have the opportunity to hear great preaching coming from nationally known speaker\, Chuck Harding. Please call the church for more information! \n    School Name*    Trip Leader*    Phone #*    Email Address*    # of Students*    # of Chaperones*    Comments or questions*SubmitReset
URL:https://riverviewbaptist.org/event/presidents-day-tournament/
LOCATION:Riverview Baptist Church\, 4921 W Wernett Rd\, Pasco\, WA\, 99301\, United States
CATEGORIES:Riverview Baptist Christian School
ATTACH;FMTTYPE=image/jpeg:https://riverviewbaptist.org/wp-content/uploads/2018/01/presidentsdaytournament.jpg
END:VEVENT
END:VCALENDAR