BEGIN:VCALENDAR
VERSION:2.0
PRODID:-//Riverview Baptist Church - ECPv6.0.10//NONSGML v1.0//EN
CALSCALE:GREGORIAN
METHOD:PUBLISH
X-WR-CALNAME:Riverview Baptist Church
X-ORIGINAL-URL:https://riverviewbaptist.org
X-WR-CALDESC:Events for Riverview Baptist Church
REFRESH-INTERVAL;VALUE=DURATION:PT1H
X-Robots-Tag:noindex
X-PUBLISHED-TTL:PT1H
BEGIN:VTIMEZONE
TZID:UTC
BEGIN:STANDARD
TZOFFSETFROM:+0000
TZOFFSETTO:+0000
TZNAME:UTC
DTSTART:20180101T000000
END:STANDARD
END:VTIMEZONE
BEGIN:VEVENT
DTSTART;VALUE=DATE:20180517
DTEND;VALUE=DATE:20180519
DTSTAMP:20260420T222209
CREATED:20180320T042913Z
LAST-MODIFIED:20180320T042913Z
UID:711-1526515200-1526687999@riverviewbaptist.org
SUMMARY:Spring Teen Revival
DESCRIPTION:
URL:https://riverviewbaptist.org/event/spring-teen-revival/
LOCATION:Riverview Baptist Church\, 4921 W Wernett Rd\, Pasco\, WA\, 99301\, United States
CATEGORIES:Youth Department
ATTACH;FMTTYPE=image/jpeg:https://riverviewbaptist.org/wp-content/uploads/2018/03/springteenrevival2018.jpg
ORGANIZER;CN="Pastor%20Kayin%20Rolland":MAILTO:krolland.rvbc@gmail.com
END:VEVENT
BEGIN:VEVENT
DTSTART;VALUE=DATE:20180415
DTEND;VALUE=DATE:20180430
DTSTAMP:20260420T222209
CREATED:20180320T015452Z
LAST-MODIFIED:20180320T015452Z
UID:708-1523750400-1525046399@riverviewbaptist.org
SUMMARY:Spring Program 2018
DESCRIPTION:
URL:https://riverviewbaptist.org/event/spring-program-2018/
LOCATION:WA
CATEGORIES:Bus Ministry
ATTACH;FMTTYPE=image/jpeg:https://riverviewbaptist.org/wp-content/uploads/2018/03/springprogram2018.jpg
END:VEVENT
BEGIN:VEVENT
DTSTART;VALUE=DATE:20180219
DTEND;VALUE=DATE:20180222
DTSTAMP:20260420T222209
CREATED:20180113T053751Z
LAST-MODIFIED:20180116T050706Z
UID:553-1518998400-1519257599@riverviewbaptist.org
SUMMARY:President's Day Tournament
DESCRIPTION:President’s Day Tournament\nOn February 19th-21st we will be holding our 40th annual President’s Day Tournament! School’s from around the region will travel to compete in basketball and volleyball competition. Young people and coaches who attend will have the opportunity to hear great preaching coming from nationally known speaker\, Chuck Harding. Please call the church for more information! \n    School Name*    Trip Leader*    Phone #*    Email Address*    # of Students*    # of Chaperones*    Comments or questions*SubmitReset
URL:https://riverviewbaptist.org/event/presidents-day-tournament/
LOCATION:Riverview Baptist Church\, 4921 W Wernett Rd\, Pasco\, WA\, 99301\, United States
CATEGORIES:Riverview Baptist Christian School
ATTACH;FMTTYPE=image/jpeg:https://riverviewbaptist.org/wp-content/uploads/2018/01/presidentsdaytournament.jpg
END:VEVENT
END:VCALENDAR