BEGIN:VCALENDAR
VERSION:2.0
PRODID:-//Riverview Baptist Church - ECPv6.0.10//NONSGML v1.0//EN
CALSCALE:GREGORIAN
METHOD:PUBLISH
X-ORIGINAL-URL:https://riverviewbaptist.org
X-WR-CALDESC:Events for Riverview Baptist Church
REFRESH-INTERVAL;VALUE=DURATION:PT1H
X-Robots-Tag:noindex
X-PUBLISHED-TTL:PT1H
BEGIN:VTIMEZONE
TZID:UTC
BEGIN:STANDARD
TZOFFSETFROM:+0000
TZOFFSETTO:+0000
TZNAME:UTC
DTSTART:20230101T000000
END:STANDARD
END:VTIMEZONE
BEGIN:VEVENT
DTSTART;VALUE=DATE:20230507
DTEND;VALUE=DATE:20230508
DTSTAMP:20260424T074247
CREATED:20180320T015115Z
LAST-MODIFIED:20230505T175341Z
UID:705-1683417600-1683503999@riverviewbaptist.org
SUMMARY:Country Fair Sunday
DESCRIPTION:Free for every child\, teen and adult who comes!\nThe Country Fair will include: 20+ booths and games including: a car smash\, Dino dig\, bow and arrow shoot\, dart toss\, spin wheel\, animal balloons and much more!\nFree food includes: hot dogs\, pizza\, ice cream and snow cones!\nEnglish: 10:00 AM – 12:15 PM\nSpanish: 11:45 AM – 2:00 PM\nPlease call Pastor Mike at 509-302-1666 if you need a ride on one of our bus routes!
URL:https://riverviewbaptist.org/event/country-fair-sunday/
LOCATION:Riverview Baptist Church\, 4921 W Wernett Rd\, Pasco\, WA\, 99301\, United States
CATEGORIES:Bus Ministry,English
ATTACH;FMTTYPE=image/png:https://riverviewbaptist.org/wp-content/uploads/2018/03/Red-and-Brown-Minimalist-Carnival-Fun-Fair-Flyer.png
END:VEVENT
END:VCALENDAR