BEGIN:VCALENDAR
VERSION:2.0
PRODID:-//Riverview Baptist Church - ECPv6.0.10//NONSGML v1.0//EN
CALSCALE:GREGORIAN
METHOD:PUBLISH
X-ORIGINAL-URL:https://riverviewbaptist.org
X-WR-CALDESC:Events for Riverview Baptist Church
REFRESH-INTERVAL;VALUE=DURATION:PT1H
X-Robots-Tag:noindex
X-PUBLISHED-TTL:PT1H
BEGIN:VTIMEZONE
TZID:America/Los_Angeles
BEGIN:DAYLIGHT
TZOFFSETFROM:-0800
TZOFFSETTO:-0700
TZNAME:PDT
DTSTART:20240310T100000
END:DAYLIGHT
BEGIN:STANDARD
TZOFFSETFROM:-0700
TZOFFSETTO:-0800
TZNAME:PST
DTSTART:20241103T090000
END:STANDARD
TZID:UTC
BEGIN:STANDARD
TZOFFSETFROM:+0000
TZOFFSETTO:+0000
TZNAME:UTC
DTSTART:20240101T000000
END:STANDARD
END:VTIMEZONE
BEGIN:VEVENT
DTSTART;VALUE=DATE:20240209
DTEND;VALUE=DATE:20240211
DTSTAMP:20260421T105643
CREATED:20240104T181823Z
LAST-MODIFIED:20240104T182256Z
UID:1892-1707436800-1707609599@riverviewbaptist.org
SUMMARY:Meridian Sports Trip
DESCRIPTION:To register\, click here. \nThis year the teams will be travelling to Meridian\, ID to play against Treasure Valley and Twin Falls. \nWe plan on leaving the school at 9:00 AM on Friday February\, 9th. \nOur hotel is: \nQuality Inn \n1575 S Meridian Rd \nMeridian\, ID 83642 \nThe schedule is as follows: \nVarsity Volleyball at 4:00 PM \nVarsity Basketball at 5:30 PM \nSaturday: \nVarsity Volleyball at 9:00 AM \nVarsity Basketball at 10:30 AM \nWe should be arriving home around 5:00 PM.
URL:https://riverviewbaptist.org/event/meridian-sports-trip/
LOCATION:Treasure Valley Baptist Church\, 1300 S Teare Ave\, Meridian\, ID\, 83642\, United States
ATTACH;FMTTYPE=image/jpeg:https://riverviewbaptist.org/wp-content/uploads/2024/01/493A2989-scaled.jpg
ORGANIZER;CN="Pastor%20Kayin%20Rolland":MAILTO:krolland.rvbc@gmail.com
END:VEVENT
BEGIN:VEVENT
DTSTART;VALUE=DATE:20240219
DTEND;VALUE=DATE:20240222
DTSTAMP:20260421T105643
CREATED:20190105T033358Z
LAST-MODIFIED:20240104T182418Z
UID:1010-1708300800-1708559999@riverviewbaptist.org
SUMMARY:President's Day Tournament
DESCRIPTION:Presidents Day Tournament forms are now available!\nTo register your team for this event\, click here: PDT 2024 Registration Form\nHotel options: \nRed Lion Pasco  \nhttps://www.redlion.com/red-lion-hotels/wa/pasco/red-lion-hotel-pasco-airport-conference-center \ncall 509-544-3915 \nRed Lion Columbia Center Kennewick \ncall 509-783-0611 \nhttps://www.redlion.com/red-lion-hotels/wa/kennewick/red-lion-hotel-kennewick-columbia-center \nHoliday Inn Richland on the River \ncall 509-737-8000 \nhttps://www.ihg.com/holidayinnexpress/hotels/us/en/richland/rlwwa/hoteldetail?cm_mmc=GoogleMaps-_-EX-_-US-_-RLWWA
URL:https://riverviewbaptist.org/event/presidents-day-tournament-2/
LOCATION:Riverview Baptist Church\, 4921 W Wernett Rd\, Pasco\, WA\, 99301\, United States
CATEGORIES:Riverview Baptist Christian School
ATTACH;FMTTYPE=image/png:https://riverviewbaptist.org/wp-content/uploads/2019/01/Neon-Purple-White-Weekend-Opening-Hours-Promotion-Facebook-Cover.png
ORGANIZER;CN="Pastor%20Kayin%20Rolland":MAILTO:krolland.rvbc@gmail.com
END:VEVENT
END:VCALENDAR